BEGIN:VCALENDAR
VERSION:2.0
PRODID:-//VECTOR Outreach - ECPv6.15.20//NONSGML v1.0//EN
CALSCALE:GREGORIAN
METHOD:PUBLISH
X-WR-CALNAME:VECTOR Outreach
X-ORIGINAL-URL:https://vectoroutreach.org
X-WR-CALDESC:Events for VECTOR Outreach
REFRESH-INTERVAL;VALUE=DURATION:PT1H
X-Robots-Tag:noindex
X-PUBLISHED-TTL:PT1H
BEGIN:VTIMEZONE
TZID:America/Chicago
BEGIN:DAYLIGHT
TZOFFSETFROM:-0600
TZOFFSETTO:-0500
TZNAME:CDT
DTSTART:20250309T080000
END:DAYLIGHT
BEGIN:STANDARD
TZOFFSETFROM:-0500
TZOFFSETTO:-0600
TZNAME:CST
DTSTART:20251102T070000
END:STANDARD
BEGIN:DAYLIGHT
TZOFFSETFROM:-0600
TZOFFSETTO:-0500
TZNAME:CDT
DTSTART:20260308T080000
END:DAYLIGHT
BEGIN:STANDARD
TZOFFSETFROM:-0500
TZOFFSETTO:-0600
TZNAME:CST
DTSTART:20261101T070000
END:STANDARD
BEGIN:DAYLIGHT
TZOFFSETFROM:-0600
TZOFFSETTO:-0500
TZNAME:CDT
DTSTART:20270314T080000
END:DAYLIGHT
BEGIN:STANDARD
TZOFFSETFROM:-0500
TZOFFSETTO:-0600
TZNAME:CST
DTSTART:20271107T070000
END:STANDARD
END:VTIMEZONE
BEGIN:VEVENT
DTSTART;TZID=America/Chicago:20260505T130000
DTEND;TZID=America/Chicago:20260506T173000
DTSTAMP:20260424T115638
CREATED:20260417T163555Z
LAST-MODIFIED:20260417T165031Z
UID:10000204-1777986000-1778088600@vectoroutreach.org
SUMMARY:South Fort Walton Mosquito IPM Workshop
DESCRIPTION:A hands-on introduction to mosquito biology\, identification\, and control. Participants will be guided from foundational knowledge to practical field skills. \nOn the first day\, attendees explore core topics including: \n\nMosquito-borne diseases\nSpecimen preservation\nLarval identification\nHome-based control strategies\n\n  \nThe second day expands into species-level identification\, focusing on common Gulf South native and invasive mosquito species; supported by expert-led practicums that reinforce microscope and diagnostic skills. Sessions on mosquito bionomics and integrated pest management conclude the day. \nThis workshop is designed to help participants understand how mosquito behavior\, ecology\, and control methods interact in real-world scenarios. \nWorkshop Schedule: \n\nDay 1: 1:00 pm – 5:45 pm\nDay 2: 8:00 am – 5:30 pm\n\n  \nRegister soon! This event can host up to 30 people. \nSponsored by:\nGulf South VECTOR\, South Fort Walton\, University of Florida Medical Entomology Laboratory\, BEACONS\, Azelis\, Central Life Sciences\, and City of New Orleans Mosquito\, Termite\, & Rodent Control Board
URL:https://vectoroutreach.org/event/south-fort-walton-mosquito-ipm-workshop/
LOCATION:South Walton Mosquito District\, 774 County Highway 393 North\, Santa Rosa Beach\, FL\, 32459\, United States
CATEGORIES:Workshop
ATTACH;FMTTYPE=image/png:https://vectoroutreach.org/wp-content/uploads/2026/04/GSV_Lockup_Color-1.png
ORGANIZER;CN="Gulf South VECTOR":MAILTO:vectoroutreach@nola.gov
END:VEVENT
END:VCALENDAR